BEGIN:VCALENDAR
VERSION:2.0
PRODID:-//Schola Cantorum di Bazzano//NONSGML kigkonsult.se iCalcreator 2.3
 0.10//
CALSCALE:GREGORIAN
METHOD:PUBLISH
UID:dedfbac2-9a5a-4298-a5e6-2ac3facc172c
X-WR-CALNAME:iCagenda
X-WR-CALDESC:Event Management Extension for Joomla!
X-WR-RELCALID:3E26604A-50F4-4449-8B3E-E4F4932D05B5
X-WR-TIMEZONE:UTC
BEGIN:VTIMEZONE
TZID:UTC
END:VTIMEZONE
BEGIN:VEVENT
UID:b21e8b5b-e7f3-49f5-99d2-d415a53ceb34
DTSTAMP:20260421T082951Z
CATEGORIES:Concerti
CLASS:PUBLIC
DESCRIPTION;ALTREP="CID:<FFFF__=0ABBE548DFE235B58f9e8a93d@coffeebean.com>":
 Concerto di Capodanno 2017
DTSTART:20170101T180000Z
DTEND:20170101T180000Z
GEO:00;0
LOCATION:Teatro di Savignano sul Panaro
ORGANIZER:
SEQUENCE:1
SUMMARY:Concerto di Capodanno
TRANSP:OPAQUE
URL:https://scholacantorumbazzano.it/la-storia/2017/9-concerto-di-capodanno
 /2017-01-01-18-00.html
END:VEVENT
END:VCALENDAR
