BEGIN:VCALENDAR
VERSION:2.0
PRODID:-//Schola Cantorum di Bazzano//NONSGML kigkonsult.se iCalcreator 2.3
 0.10//
CALSCALE:GREGORIAN
METHOD:PUBLISH
UID:0af80749-0936-42e1-b55c-72768481fc8a
X-WR-CALNAME:iCagenda
X-WR-CALDESC:Event Management Extension for Joomla!
X-WR-RELCALID:3E26604A-50F4-4449-8B3E-E4F4932D05B5
X-WR-TIMEZONE:UTC
BEGIN:VTIMEZONE
TZID:UTC
END:VTIMEZONE
BEGIN:VEVENT
UID:8469d7e9-6572-46a7-9f8e-68430cb8d5f4
DTSTAMP:20260421T100306Z
CATEGORIES:Concerti
CLASS:PUBLIC
DESCRIPTION:
DTSTART:20171124T070000Z
DTEND:20171126T210000Z
GEO:+47.805424;+13.04356
LOCATION:Salisburgo
ORGANIZER:
SEQUENCE:1
SUMMARY:Messa dei Passeri di Mozart
TRANSP:OPAQUE
URL:https://scholacantorumbazzano.it/la-storia/2017/46-messa-dei-passeri-di
 -mozart.html
END:VEVENT
END:VCALENDAR
