BEGIN:VCALENDAR
VERSION:2.0
PRODID:-//Schola Cantorum di Bazzano//NONSGML kigkonsult.se iCalcreator 2.3
 0.10//
CALSCALE:GREGORIAN
METHOD:PUBLISH
UID:9090047d-25fa-4f7b-b106-a8d63ffe8f08
X-WR-CALNAME:iCagenda
X-WR-CALDESC:Event Management Extension for Joomla!
X-WR-RELCALID:3E26604A-50F4-4449-8B3E-E4F4932D05B5
X-WR-TIMEZONE:UTC
BEGIN:VTIMEZONE
TZID:UTC
END:VTIMEZONE
BEGIN:VEVENT
UID:053cec2e-0be1-4635-be47-2d83ce1ebe78
DTSTAMP:20260421T100432Z
CATEGORIES:Concerti
CLASS:PUBLIC
DESCRIPTION;ALTREP="CID:<FFFF__=0ABBE548DFE235B58f9e8a93d@coffeebean.com>":
 Concerto organizzato dall'Associazione corale Veneziani di Ferrara
DTSTART:20161029T170000Z
DTEND:20161029T170000Z
GEO:+44.837677;+11.620317
LOCATION:Ridotto del Teatro Comunale
ORGANIZER;CN=:info@scholacantorumbazzano.it
SEQUENCE:1
SUMMARY:Concerto a Ferrara
TRANSP:OPAQUE
URL:https://scholacantorumbazzano.it/la-storia/2016/7-concerto-a-ferrara/20
 16-10-29-17-00.html
END:VEVENT
END:VCALENDAR
